BEGIN:VCALENDAR
VERSION:2.0
PRODID:-//Shippers Council of Eastern Africa (SCEA) - ECPv6.15.20//NONSGML v1.0//EN
CALSCALE:GREGORIAN
METHOD:PUBLISH
X-ORIGINAL-URL:https://shipperscouncilea.org
X-WR-CALDESC:Events for Shippers Council of Eastern Africa (SCEA)
REFRESH-INTERVAL;VALUE=DURATION:PT1H
X-Robots-Tag:noindex
X-PUBLISHED-TTL:PT1H
BEGIN:VTIMEZONE
TZID:Europe/Moscow
BEGIN:STANDARD
TZOFFSETFROM:+0300
TZOFFSETTO:+0300
TZNAME:MSK
DTSTART:20240101T000000
END:STANDARD
END:VTIMEZONE
BEGIN:VEVENT
DTSTART;TZID=Europe/Moscow:20250415T100000
DTEND;TZID=Europe/Moscow:20250415T130000
DTSTAMP:20260421T135032
CREATED:20250403T082315Z
LAST-MODIFIED:20250403T082315Z
UID:569-1744711200-1744722000@shipperscouncilea.org
SUMMARY:KPA WAIVER SENITIZATION MEETING
DESCRIPTION:Shippers using the Port of Mombasa continue to face significant storage costs due to inefficiencies and operational delays\, including system downtimes\, cargo railage delays\, tariff disputes\, and other challenges. \nRecognizing this inefficiencies on shippers\, SCEA\, in collaboration with KIFWA and KAM\, has organized a Waiver Sensitization Meeting. During this session\, KPA will provide detailed guidance on the waiver application process\, procedures\, and qualification requirements to help shippers navigate the process and potentially reduce storage costs.
URL:https://shipperscouncilea.org/event/kpa-waiver-senitization-meeting/
CATEGORIES:SCEA Events
ATTACH;FMTTYPE=image/jpeg:https://shipperscouncilea.org/wp-content/uploads/2025/01/Marine-Insurance-22-e1736753406234.jpg
END:VEVENT
BEGIN:VEVENT
DTSTART;TZID=Europe/Moscow:20250625T080000
DTEND;TZID=Europe/Moscow:20250625T130000
DTSTAMP:20260421T135032
CREATED:20250403T083734Z
LAST-MODIFIED:20250403T083734Z
UID:571-1750838400-1750856400@shipperscouncilea.org
SUMMARY:SCEA ANNUAL GENERAL MEETING
DESCRIPTION:Shippers Council Of Eastern Africa Annual General Meeting to be held 25 June 2025.
URL:https://shipperscouncilea.org/event/scea-annual-general-meeting/
CATEGORIES:SCEA Events
ATTACH;FMTTYPE=image/jpeg:https://shipperscouncilea.org/wp-content/uploads/2025/04/download-22.jpg
END:VEVENT
BEGIN:VEVENT
DTSTART;TZID=Europe/Moscow:20260316T090000
DTEND;TZID=Europe/Moscow:20260316T163000
DTSTAMP:20260421T135032
CREATED:20260311T064053Z
LAST-MODIFIED:20260311T064526Z
UID:761-1773651600-1773678600@shipperscouncilea.org
SUMMARY:Sustainable Logistics Procurement Training
DESCRIPTION:Who should attend?\n• Shippers and cargo owners\n• Supply chain and logistics managers\n• Procurement and sourcing teams\n• Corporate sustainability teams\n• Companies seeking to reduce freight emissions within their supply chains
URL:https://shipperscouncilea.org/event/sustainable-logistics-procurement-training/
CATEGORIES:SCEA Events
ATTACH;FMTTYPE=image/jpeg:https://shipperscouncilea.org/wp-content/uploads/2026/03/WhatsApp-Image-2026-03-10-at-4.36.09-PM.jpeg
END:VEVENT
END:VCALENDAR